BEGIN:VCALENDAR
VERSION:2.0
PRODID:-//Meadowbrook at Clayton - ECPv6.15.14//NONSGML v1.0//EN
CALSCALE:GREGORIAN
METHOD:PUBLISH
X-WR-CALNAME:Meadowbrook at Clayton
X-ORIGINAL-URL:https://meadowbrookatclayton.com
X-WR-CALDESC:Events for Meadowbrook at Clayton
REFRESH-INTERVAL;VALUE=DURATION:PT1H
X-Robots-Tag:noindex
X-PUBLISHED-TTL:PT1H
BEGIN:VTIMEZONE
TZID:America/New_York
BEGIN:DAYLIGHT
TZOFFSETFROM:-0500
TZOFFSETTO:-0400
TZNAME:EDT
DTSTART:20230312T070000
END:DAYLIGHT
BEGIN:STANDARD
TZOFFSETFROM:-0400
TZOFFSETTO:-0500
TZNAME:EST
DTSTART:20231105T060000
END:STANDARD
BEGIN:DAYLIGHT
TZOFFSETFROM:-0500
TZOFFSETTO:-0400
TZNAME:EDT
DTSTART:20240310T070000
END:DAYLIGHT
BEGIN:STANDARD
TZOFFSETFROM:-0400
TZOFFSETTO:-0500
TZNAME:EST
DTSTART:20241103T060000
END:STANDARD
BEGIN:DAYLIGHT
TZOFFSETFROM:-0500
TZOFFSETTO:-0400
TZNAME:EDT
DTSTART:20250309T070000
END:DAYLIGHT
BEGIN:STANDARD
TZOFFSETFROM:-0400
TZOFFSETTO:-0500
TZNAME:EST
DTSTART:20251102T060000
END:STANDARD
END:VTIMEZONE
BEGIN:VEVENT
DTSTART;VALUE=DATE:20240601
DTEND;VALUE=DATE:20240602
DTSTAMP:20260419T152901
CREATED:20240526T183317Z
LAST-MODIFIED:20240526T183317Z
UID:12376-1717200000-1717286399@meadowbrookatclayton.com
SUMMARY:Meadowbrook 100th Anniversary Golf Outing
DESCRIPTION:
URL:https://meadowbrookatclayton.com/event/meadowbrook-100th-anniversary-golf-outing/
LOCATION:Ballroom\, 6001 Salem Ave.\, Clayton\, OH\, 45315
END:VEVENT
BEGIN:VEVENT
DTSTART;VALUE=DATE:20240601
DTEND;VALUE=DATE:20240602
DTSTAMP:20260419T152901
CREATED:20240526T183540Z
LAST-MODIFIED:20240526T183540Z
UID:12379-1717200000-1717286399@meadowbrookatclayton.com
SUMMARY:Madden Women's Golf Outing
DESCRIPTION:
URL:https://meadowbrookatclayton.com/event/madden-womens-golf-outing-2/
LOCATION:Lavaris Room\, 6001 Salem Ave.\, Clayton\, OH\, 45315
END:VEVENT
BEGIN:VEVENT
DTSTART;VALUE=DATE:20240601
DTEND;VALUE=DATE:20240602
DTSTAMP:20260419T152901
CREATED:20240526T185529Z
LAST-MODIFIED:20240526T185529Z
UID:12424-1717200000-1717286399@meadowbrookatclayton.com
SUMMARY:Gem City Foundation Anniversary Celebration
DESCRIPTION:
URL:https://meadowbrookatclayton.com/event/gem-city-foundation-anniversary-celebration/
LOCATION:Ballroom\, 6001 Salem Ave.\, Clayton\, OH\, 45315
CATEGORIES:Banquet Event
END:VEVENT
END:VCALENDAR