BEGIN:VCALENDAR
VERSION:2.0
PRODID:-//Meadowbrook at Clayton - ECPv6.15.14//NONSGML v1.0//EN
CALSCALE:GREGORIAN
METHOD:PUBLISH
X-WR-CALNAME:Meadowbrook at Clayton
X-ORIGINAL-URL:https://meadowbrookatclayton.com
X-WR-CALDESC:Events for Meadowbrook at Clayton
REFRESH-INTERVAL;VALUE=DURATION:PT1H
X-Robots-Tag:noindex
X-PUBLISHED-TTL:PT1H
BEGIN:VTIMEZONE
TZID:America/Indiana/Indianapolis
BEGIN:DAYLIGHT
TZOFFSETFROM:-0500
TZOFFSETTO:-0400
TZNAME:EDT
DTSTART:20230312T070000
END:DAYLIGHT
BEGIN:STANDARD
TZOFFSETFROM:-0400
TZOFFSETTO:-0500
TZNAME:EST
DTSTART:20231105T060000
END:STANDARD
BEGIN:DAYLIGHT
TZOFFSETFROM:-0500
TZOFFSETTO:-0400
TZNAME:EDT
DTSTART:20240310T070000
END:DAYLIGHT
BEGIN:STANDARD
TZOFFSETFROM:-0400
TZOFFSETTO:-0500
TZNAME:EST
DTSTART:20241103T060000
END:STANDARD
BEGIN:DAYLIGHT
TZOFFSETFROM:-0500
TZOFFSETTO:-0400
TZNAME:EDT
DTSTART:20250309T070000
END:DAYLIGHT
BEGIN:STANDARD
TZOFFSETFROM:-0400
TZOFFSETTO:-0500
TZNAME:EST
DTSTART:20251102T060000
END:STANDARD
END:VTIMEZONE
BEGIN:VEVENT
DTSTART;VALUE=DATE:20240429
DTEND;VALUE=DATE:20240504
DTSTAMP:20260419T135650
CREATED:20230707T152731Z
LAST-MODIFIED:20230707T152731Z
UID:12257-1714348800-1714780799@meadowbrookatclayton.com
SUMMARY:Ohio Virtual Academy
DESCRIPTION:
URL:https://meadowbrookatclayton.com/event/ohio-virtual-academy-6/
LOCATION:Full Facility\, 6001 Salem Ave\, Clayton\, OH\, 45415\, United States
END:VEVENT
BEGIN:VEVENT
DTSTART;VALUE=DATE:20240517
DTEND;VALUE=DATE:20240518
DTSTAMP:20260419T135650
CREATED:20230707T153204Z
LAST-MODIFIED:20230707T153204Z
UID:12264-1715904000-1715990399@meadowbrookatclayton.com
SUMMARY:Dayton Builder's Golf Outing
DESCRIPTION:
URL:https://meadowbrookatclayton.com/event/dayton-builders-golf-outing-2/
LOCATION:Golf Course\, 6001 Salem Ave\, Clayton\, OH\, 45315\, United States
END:VEVENT
END:VCALENDAR